BEGIN:VCALENDAR
VERSION:2.0
PRODID:-//Island Arts - ECPv6.15.20//NONSGML v1.0//EN
CALSCALE:GREGORIAN
METHOD:PUBLISH
X-ORIGINAL-URL:https://www.islandarts.org
X-WR-CALDESC:Events for Island Arts
REFRESH-INTERVAL;VALUE=DURATION:PT1H
X-Robots-Tag:noindex
X-PUBLISHED-TTL:PT1H
BEGIN:VTIMEZONE
TZID:America/New_York
BEGIN:DAYLIGHT
TZOFFSETFROM:-0500
TZOFFSETTO:-0400
TZNAME:EDT
DTSTART:20220313T070000
END:DAYLIGHT
BEGIN:STANDARD
TZOFFSETFROM:-0400
TZOFFSETTO:-0500
TZNAME:EST
DTSTART:20221106T060000
END:STANDARD
BEGIN:DAYLIGHT
TZOFFSETFROM:-0500
TZOFFSETTO:-0400
TZNAME:EDT
DTSTART:20230312T070000
END:DAYLIGHT
BEGIN:STANDARD
TZOFFSETFROM:-0400
TZOFFSETTO:-0500
TZNAME:EST
DTSTART:20231105T060000
END:STANDARD
BEGIN:DAYLIGHT
TZOFFSETFROM:-0500
TZOFFSETTO:-0400
TZNAME:EDT
DTSTART:20240310T070000
END:DAYLIGHT
BEGIN:STANDARD
TZOFFSETFROM:-0400
TZOFFSETTO:-0500
TZNAME:EST
DTSTART:20241103T060000
END:STANDARD
END:VTIMEZONE
BEGIN:VEVENT
DTSTART;TZID=America/New_York:20230806T140000
DTEND;TZID=America/New_York:20230806T160000
DTSTAMP:20260423T192632
CREATED:20230428T134303Z
LAST-MODIFIED:20230428T134303Z
UID:10000115-1691330400-1691337600@www.islandarts.org
SUMMARY:James and the Giant Peach Jr
DESCRIPTION:James and the Giant Peach JrDate and Time: August 5\, 2023 7:00PM-9:00PM\nLocation: Island Arts Center\, 1127 US Rt 2\, North Hero\, VT 05474\nTickets: Sold by Full Circle \nPerformances Friday through Sunday\, \nAugust 4th\, @ 7:00 PM\nAugust 5th\, @ 2:00 PM & 7:00 PM\nAugust 6th @ 2:00 PM \nA professionally run children’s musical theater production with local Grand Isle County youth participating. Presented in partnership with the Full Circle Theater Collaborative who returns to the Island Arts Center for their third season. \nThis show is based on one of Ronald Dahl’s most moving and quirky stories James and the Giant Peach is a brand-new take on this “masterpeach” of a tale. Featuring a wickedly tuneful score by Benj Pasek and Justin Paul (Dear Evan Hansen)\, and a witty and charming book by Timothy Allen McDonald\, this adventurous musical about courage and self-discovery is destined to be a classic. \nMore at https://www.fullcircletheater.com/ \nGET TICKETS @ FULL CIRCLEPhoto by Michael Frett. Image courtesy of Full Circle Theater Collaborative.\nBACK TO ALL EVENTS
URL:https://www.islandarts.org/event/james-and-the-giant-peach-jr-4/
LOCATION:Isle LaMotte Town Hall Community Room\, Isle LaMotte\, VT 05463\, 67 Church St.\, Isle LaMotte\, VT\, 05463\, United States
CATEGORIES:Events,Theatre
ATTACH;FMTTYPE=image/jpeg:https://www.islandarts.org/wp-content/uploads/2022/04/Oliver-1.jpg
END:VEVENT
BEGIN:VEVENT
DTSTART;TZID=America/New_York:20230805T190000
DTEND;TZID=America/New_York:20230805T210000
DTSTAMP:20260423T192632
CREATED:20230428T134222Z
LAST-MODIFIED:20230428T134222Z
UID:10000114-1691262000-1691269200@www.islandarts.org
SUMMARY:James and the Giant Peach Jr
DESCRIPTION:James and the Giant Peach JrDate and Time: August 5\, 2023 7:00PM-9:00PM\nLocation: Island Arts Center\, 1127 US Rt 2\, North Hero\, VT 05474\nTickets: Sold by Full Circle \nPerformances Friday through Sunday\, \nAugust 4th\, @ 7:00 PM\nAugust 5th\, @ 2:00 PM & 7:00 PM\nAugust 6th @ 7:00 PM \nA professionally run children’s musical theater production with local Grand Isle County youth participating. Presented in partnership with the Full Circle Theater Collaborative who returns to the Island Arts Center for their third season. \nThis show is based on one of Ronald Dahl’s most moving and quirky stories James and the Giant Peach is a brand-new take on this “masterpeach” of a tale. Featuring a wickedly tuneful score by Benj Pasek and Justin Paul (Dear Evan Hansen)\, and a witty and charming book by Timothy Allen McDonald\, this adventurous musical about courage and self-discovery is destined to be a classic. \nMore at https://www.fullcircletheater.com/ \nGET TICKETS @ FULL CIRCLEPhoto by Michael Frett. Image courtesy of Full Circle Theater Collaborative.\nBACK TO ALL EVENTS
URL:https://www.islandarts.org/event/james-and-the-giant-peach-jr-3/
LOCATION:Isle LaMotte Town Hall Community Room\, Isle LaMotte\, VT 05463\, 67 Church St.\, Isle LaMotte\, VT\, 05463\, United States
CATEGORIES:Events,Theatre
ATTACH;FMTTYPE=image/jpeg:https://www.islandarts.org/wp-content/uploads/2022/04/Oliver-1.jpg
END:VEVENT
BEGIN:VEVENT
DTSTART;TZID=America/New_York:20230805T140000
DTEND;TZID=America/New_York:20230805T160000
DTSTAMP:20260423T192632
CREATED:20230428T134126Z
LAST-MODIFIED:20230627T122836Z
UID:10000112-1691244000-1691251200@www.islandarts.org
SUMMARY:James and the Giant Peach Jr
DESCRIPTION:James and the Giant Peach JrDate and Time: August 5\, 2023 7:00PM-9:00PM\nLocation: Island Arts Center\, 1127 US Rt 2\, North Hero\, VT 05474\nTickets: Sold by Full Circle \nPerformances Friday through Sunday\, \nAugust 4th\, @ 7:00 PM\nAugust 5th\, @ 7:00 PM\nAugust 6th @ 2:00 PM & 7:00 PM \nA professionally run children’s musical theater production with local Grand Isle County youth participating. Presented in partnership with the Full Circle Theater Collaborative who returns to the Island Arts Center for their third season. \nThis show is based on one of Ronald Dahl’s most moving and quirky stories James and the Giant Peach is a brand-new take on this “masterpeach” of a tale. Featuring a wickedly tuneful score by Benj Pasek and Justin Paul (Dear Evan Hansen)\, and a witty and charming book by Timothy Allen McDonald\, this adventurous musical about courage and self-discovery is destined to be a classic. \nMore at https://www.fullcircletheater.com/ \nGET TICKETS @ FULL CIRCLEPhoto by Michael Frett. Image courtesy of Full Circle Theater Collaborative.\nBACK TO ALL EVENTS
URL:https://www.islandarts.org/event/james-and-the-giant-peach-jr-2/
LOCATION:Isle LaMotte Town Hall Community Room\, Isle LaMotte\, VT 05463\, 67 Church St.\, Isle LaMotte\, VT\, 05463\, United States
CATEGORIES:Events,Theatre
ATTACH;FMTTYPE=image/jpeg:https://www.islandarts.org/wp-content/uploads/2022/04/Oliver-1.jpg
END:VEVENT
END:VCALENDAR