BEGIN:VCALENDAR
VERSION:2.0
PRODID:-//Island Arts - ECPv6.15.20//NONSGML v1.0//EN
CALSCALE:GREGORIAN
METHOD:PUBLISH
X-ORIGINAL-URL:https://www.islandarts.org
X-WR-CALDESC:Events for Island Arts
REFRESH-INTERVAL;VALUE=DURATION:PT1H
X-Robots-Tag:noindex
X-PUBLISHED-TTL:PT1H
BEGIN:VTIMEZONE
TZID:UTC
BEGIN:STANDARD
TZOFFSETFROM:+0000
TZOFFSETTO:+0000
TZNAME:UTC
DTSTART:20230101T000000
END:STANDARD
END:VTIMEZONE
BEGIN:VEVENT
DTSTART;TZID=UTC:20250820T103000
DTEND;TZID=UTC:20250820T120000
DTSTAMP:20260423T145353
CREATED:20250507T172106Z
LAST-MODIFIED:20250508T233726Z
UID:10000713-1755685800-1755691200@www.islandarts.org
SUMMARY:Handcrafted Greeting Card Workshop
DESCRIPTION:Handcrafted Greeting Card WorkshopDate & Time: Wednesday August 20\, 2025 10:30 am – 12:00 pm\nLocation: 275 South Street\, South Hero\, Vermont 05486\nTickets: $12 \nEnjoy Card Workshops taught by Pat Brennan. An Islander since 1969\, Pat has been giving card classes for five years. She will teach you basic card-making. At your first class\, in addition to the class fee\, you will be required to buy a tool kit ($7) that includes a dispenser with double-sided tape\, glue dots\, sponge daubers\, and a little bling. \nPlease bring scissors if you have them. \nAt each class\, you will receive two kits. Each kit will create a beautiful one-of-kind card with envelope\, a card likely to cost $5 or $6 in a store—if you could find one as nice! This is a great opportunity to have fun\, learn card-making\, and surprise friends and family with beautiful cards. \nClass fee includes 2 card kits per class. \nRegister NowBACK TO ALL CLASSES
URL:https://www.islandarts.org/event/handcrafted-greeting-card-workshop-9/
LOCATION:275 South St South Hero VT\, 275 South St\, South Hero\, VT\, United States
CATEGORIES:Arts & Crafts,Classes
ATTACH;FMTTYPE=image/jpeg:https://www.islandarts.org/wp-content/uploads/2022/04/Card-Workshop-Under-the-Sea-SQ.jpg
END:VEVENT
BEGIN:VEVENT
DTSTART;TZID=UTC:20250716T103000
DTEND;TZID=UTC:20250716T120000
DTSTAMP:20260423T145353
CREATED:20240430T183349Z
LAST-MODIFIED:20250508T233630Z
UID:10000372-1752661800-1752667200@www.islandarts.org
SUMMARY:Handcrafted Greeting Card Workshop
DESCRIPTION:Handcrafted Greeting Card WorkshopDate & Time: Wednesday July 16\, 2025 10:30 am – 12:00 pm\nLocation: 275 South Street\, South Hero\, Vermont 05486\nTickets: $12 \nEnjoy Card Workshops taught by Pat Brennan. An Islander since 1969\, Pat has been giving card classes for five years. She will teach you basic card-making. At your first class\, in addition to the class fee\, you will be required to buy a tool kit ($7) that includes a dispenser with double-sided tape\, glue dots\, sponge daubers\, and a little bling. \nPlease bring scissors if you have them. \nAt each class\, you will receive two kits. Each kit will create a beautiful one-of-kind card with envelope\, a card likely to cost $5 or $6 in a store—if you could find one as nice! This is a great opportunity to have fun\, learn card-making\, and surprise friends and family with beautiful cards. \nClass fee includes 2 card kits per class. \nRegister NowBACK TO ALL CLASSES
URL:https://www.islandarts.org/event/handcrafted-greeting-card-workshop-6/
LOCATION:275 South St South Hero VT\, 275 South St\, South Hero\, VT\, United States
CATEGORIES:Arts & Crafts,Classes
ATTACH;FMTTYPE=image/jpeg:https://www.islandarts.org/wp-content/uploads/2022/02/Card-Workshop-class-and-cards.jpg
END:VEVENT
BEGIN:VEVENT
DTSTART;TZID=UTC:20250618T103000
DTEND;TZID=UTC:20250618T120000
DTSTAMP:20260423T145353
CREATED:20250507T171728Z
LAST-MODIFIED:20250508T233343Z
UID:10000712-1750242600-1750248000@www.islandarts.org
SUMMARY:Handcrafted Greeting Card Workshop
DESCRIPTION:Handcrafted Greeting Card WorkshopDate and Time: Wednesday June 18\, 2025 10:30am – 12:00pm\nInstructor: Pat Brennan\nLocation: 275 South Street\, South Hero\, Vermont 05486 \nTickets: $12 \nEnjoy Card Workshops taught by Pat Brennan. An Islander since 1969\, Pat\nhas been giving card classes for five years. She will teach you basic\ncard-making. At your first class\, in addition to the class fee\,\nyou will be required to buy a tool kit ($7) that includes a dispenser with double-sided tape\, glue dots\, sponge daubers\, and a little bling. \nAt each class\, you will receive two kits. Each kit will create a beautiful one-of-kind card with envelope\, a card likely to cost $5 or $6 in a store—if you could find one as nice! This is a great opportunity to have fun\, learn card-making\, and surprise friends and family with beautiful cards. \nPlease bring scissors if you have them. \nClass fee includes 2 card kits per class. \nRegister NowBACK TO ALL CLASSES
URL:https://www.islandarts.org/event/handcrafted-greeting-card-workshop-8/
LOCATION:275 South St South Hero VT\, 275 South St\, South Hero\, VT\, United States
CATEGORIES:Arts & Crafts,Classes
ATTACH;FMTTYPE=image/jpeg:https://www.islandarts.org/wp-content/uploads/2022/02/Handmade-greeting-card-kit.jpg
END:VEVENT
BEGIN:VEVENT
DTSTART;TZID=UTC:20240821T103000
DTEND;TZID=UTC:20240821T120000
DTSTAMP:20260423T145353
CREATED:20240430T184103Z
LAST-MODIFIED:20240506T155340Z
UID:10000373-1724236200-1724241600@www.islandarts.org
SUMMARY:Handcrafted Greeting Card Workshop
DESCRIPTION:Handcrafted Greeting Card WorkshopDate & Time: Wednesday August 21\, 10:30 am – 12:00 pm\nLocation: 275 South Street\, South Hero\, Vermont 05486\nTickets: $10 \nEnjoy Card Workshops taught by Pat Brennan. An Islander since 1969\, Pat has been giving card classes for five years. She will teach you basic card-making. At your first class\, in addition to the class fee\, you will be required to buy a tool kit ($7) that includes a dispenser with double-sided tape\, glue dots\, sponge daubers\, and a little bling. \nPlease bring scissors if you have them. \nAt each class\, you will receive two kits. Each kit will create a beautiful one-of-kind card with envelope\, a card likely to cost $5 or $6 in a store—if you could find one as nice! This is a great opportunity to have fun\, learn card-making\, and surprise friends and family with beautiful cards. \nClass fee includes 2 card kits per class. \nRegister NowBACK TO ALL CLASSES
URL:https://www.islandarts.org/event/handcrafted-greeting-card-workshop-7/
LOCATION:275 South St South Hero VT\, 275 South St\, South Hero\, VT\, United States
CATEGORIES:Arts & Crafts,Classes
ATTACH;FMTTYPE=image/jpeg:https://www.islandarts.org/wp-content/uploads/2022/04/Card-Workshop-Under-the-Sea-SQ.jpg
END:VEVENT
BEGIN:VEVENT
DTSTART;TZID=UTC:20240619T103000
DTEND;TZID=UTC:20240619T120000
DTSTAMP:20260423T145353
CREATED:20240430T182459Z
LAST-MODIFIED:20240502T202045Z
UID:10000371-1718793000-1718798400@www.islandarts.org
SUMMARY:Handcrafted Greeting Card Workshop
DESCRIPTION:Handcrafted Greeting Card WorkshopDate and Time: Wednesday June 19\, 2024  10:30am – 12:00pm\nInstructor: Pat Brennan\nLocation: 275 South Street\, South Hero\, Vermont 05486 \nTickets: $10 \nEnjoy Card Workshops taught by Pat Brennan. An Islander since 1969\, Pat \nhas been giving card classes for five years. She will teach you basic \ncard-making. At your first class\, in addition to the class fee\,\nyou will be required to buy a tool kit ($7) that includes a dispenser with double-sided tape\, glue dots\, sponge daubers\, and a little bling. \nAt each class\, you will receive two kits. Each kit will create a beautiful one-of-kind card with envelope\, a card likely to cost $5 or $6 in a store—if you could find one as nice! This is a great opportunity to have fun\, learn card-making\, and surprise friends and family with beautiful cards. \nPlease bring scissors if you have them. \nClass fee includes 2 card kits per class. \nRegister NowBACK TO ALL CLASSES
URL:https://www.islandarts.org/event/handcrafted-greeting-card-workshop-5/
LOCATION:275 South St South Hero VT\, 275 South St\, South Hero\, VT\, United States
CATEGORIES:Arts & Crafts,Classes
ATTACH;FMTTYPE=image/jpeg:https://www.islandarts.org/wp-content/uploads/2022/02/Handmade-greeting-card-kit.jpg
END:VEVENT
END:VCALENDAR