BEGIN:VCALENDAR
VERSION:2.0
PRODID:-//Island Arts - ECPv6.15.20//NONSGML v1.0//EN
CALSCALE:GREGORIAN
METHOD:PUBLISH
X-ORIGINAL-URL:https://www.islandarts.org
X-WR-CALDESC:Events for Island Arts
REFRESH-INTERVAL;VALUE=DURATION:PT1H
X-Robots-Tag:noindex
X-PUBLISHED-TTL:PT1H
BEGIN:VTIMEZONE
TZID:America/New_York
BEGIN:DAYLIGHT
TZOFFSETFROM:-0500
TZOFFSETTO:-0400
TZNAME:EDT
DTSTART:20210314T070000
END:DAYLIGHT
BEGIN:STANDARD
TZOFFSETFROM:-0400
TZOFFSETTO:-0500
TZNAME:EST
DTSTART:20211107T060000
END:STANDARD
BEGIN:DAYLIGHT
TZOFFSETFROM:-0500
TZOFFSETTO:-0400
TZNAME:EDT
DTSTART:20220313T070000
END:DAYLIGHT
BEGIN:STANDARD
TZOFFSETFROM:-0400
TZOFFSETTO:-0500
TZNAME:EST
DTSTART:20221106T060000
END:STANDARD
BEGIN:DAYLIGHT
TZOFFSETFROM:-0500
TZOFFSETTO:-0400
TZNAME:EDT
DTSTART:20230312T070000
END:DAYLIGHT
BEGIN:STANDARD
TZOFFSETFROM:-0400
TZOFFSETTO:-0500
TZNAME:EST
DTSTART:20231105T060000
END:STANDARD
BEGIN:DAYLIGHT
TZOFFSETFROM:-0500
TZOFFSETTO:-0400
TZNAME:EDT
DTSTART:20240310T070000
END:DAYLIGHT
BEGIN:STANDARD
TZOFFSETFROM:-0400
TZOFFSETTO:-0500
TZNAME:EST
DTSTART:20241103T060000
END:STANDARD
BEGIN:DAYLIGHT
TZOFFSETFROM:-0500
TZOFFSETTO:-0400
TZNAME:EDT
DTSTART:20250309T070000
END:DAYLIGHT
BEGIN:STANDARD
TZOFFSETFROM:-0400
TZOFFSETTO:-0500
TZNAME:EST
DTSTART:20251102T060000
END:STANDARD
BEGIN:DAYLIGHT
TZOFFSETFROM:-0500
TZOFFSETTO:-0400
TZNAME:EDT
DTSTART:20260308T070000
END:DAYLIGHT
BEGIN:STANDARD
TZOFFSETFROM:-0400
TZOFFSETTO:-0500
TZNAME:EST
DTSTART:20261101T060000
END:STANDARD
END:VTIMEZONE
BEGIN:VEVENT
DTSTART;TZID=America/New_York:20250815T160000
DTEND;TZID=America/New_York:20250815T170000
DTSTAMP:20260423T201310
CREATED:20250525T194355Z
LAST-MODIFIED:20250525T194355Z
UID:10000759-1755273600-1755277200@www.islandarts.org
SUMMARY:Introduction to Alexander Technique
DESCRIPTION:Introduction to Alexander TechniqueDate/time: Friday\, Aug 15\, 2025; 4 pm to 5 pm \nLocation: Studio above garage at 34 Cardinal Lane\, South Hero \nInstructor: Sue Collinson \nCost: $15 \nThe Alexander Technique\, which is taught internationally\, seeks to help students find ease of movement by releasing habit patterns that interfere with everyday functioning. It is very useful to musicians and anyone seeking improved mastery and presence. \nSue Collinson is a graduate of the Institute for The Alexander Technique and a member of The American Society for The Alexander Technique. \nRegister NowBACK TO ALL CLASSES
URL:https://www.islandarts.org/event/introduction-to-alexander-technique-3-3/
LOCATION:34 Cardinal Lane\, South Hero VT\, 34 Cardinal Lane\, South Hero\, VT
CATEGORIES:Classes,Health & Wellness
ATTACH;FMTTYPE=image/jpeg:https://www.islandarts.org/wp-content/uploads/2022/04/Alexander-technique.jpg
END:VEVENT
BEGIN:VEVENT
DTSTART;TZID=America/New_York:20250718T160000
DTEND;TZID=America/New_York:20250718T170000
DTSTAMP:20260423T201310
CREATED:20250525T193959Z
LAST-MODIFIED:20250525T194000Z
UID:10000758-1752854400-1752858000@www.islandarts.org
SUMMARY:Introduction to Alexander Technique
DESCRIPTION:Introduction to Alexander TechniqueDate/time: Friday\, July 18\, 2025; 4 pm to 5 pm \nLocation: Studio above garage at 34 Cardinal Lane\, South Hero \nInstructor: Sue Collinson \nCost: $15 \nThe Alexander Technique\, which is taught internationally\, seeks to help students find ease of movement by releasing habit patterns that interfere with everyday functioning. It is very useful to musicians and anyone seeking improved mastery and presence. \nSue Collinson is a graduate of the Institute for The Alexander Technique and a member of The American Society for The Alexander Technique. \nRegister NowBACK TO ALL CLASSES
URL:https://www.islandarts.org/event/introduction-to-alexander-technique-3-2/
LOCATION:34 Cardinal Lane\, South Hero VT\, 34 Cardinal Lane\, South Hero\, VT
CATEGORIES:Classes,Health & Wellness
ATTACH;FMTTYPE=image/jpeg:https://www.islandarts.org/wp-content/uploads/2022/04/Alexander-technique.jpg
END:VEVENT
BEGIN:VEVENT
DTSTART;TZID=America/New_York:20240816T160000
DTEND;TZID=America/New_York:20240816T170000
DTSTAMP:20260423T201310
CREATED:20230426T181938Z
LAST-MODIFIED:20240511T174528Z
UID:10000196-1723824000-1723827600@www.islandarts.org
SUMMARY:Introduction to Alexander Technique
DESCRIPTION:Introduction to Alexander TechniqueDate/time: Friday\, August 16\, 2024; 4 pm to 5 pm \nLocation: Studio above garage at 34 Cardinal Lane\, South Hero \nInstructor: Sue Collinson \nCost: $15 \nDate/time: Friday\, August 16\, 2024; 4 pm to 5 pm \nLocation: Studio above garage at 34 Cardinal Lane\, South Hero\, Vermont \nInstructor: Sue Collinson \nCost: $15 \nThe Alexander Technique\, which is taught internationally\, seeks to help students find ease of movement by releasing habit patterns that interfere with everyday functioning. It is very useful to musicians and anyone seeking improved mastery and presence. \nSue Collinson is a graduate of the Institute for The Alexander Technique and a member of The American Society for The Alexander Technique. \nRegister NowBACK TO ALL CLASSES
URL:https://www.islandarts.org/event/introduction-to-alexander-technique-2/
LOCATION:34 Cardinal Lane\, South Hero VT\, 34 Cardinal Lane\, South Hero\, VT
CATEGORIES:Classes,Health & Wellness
ATTACH;FMTTYPE=image/jpeg:https://www.islandarts.org/wp-content/uploads/2022/04/Alexander-technique.jpg
END:VEVENT
BEGIN:VEVENT
DTSTART;TZID=America/New_York:20220709T160000
DTEND;TZID=America/New_York:20220709T170000
DTSTAMP:20260423T201310
CREATED:20220418T191724Z
LAST-MODIFIED:20220602T233113Z
UID:10000034-1657382400-1657386000@www.islandarts.org
SUMMARY:Introduction to Alexander Technique
DESCRIPTION:Introduction to Alexander TechniqueDate/time: Saturday\, July 9\, 2022; 4 pm to 5 pm\nLocation: Studio above garage at 34 Cardinal Lane\, South Hero\nInstructor: Sue Collinson\nCost: $15 \nThe Alexander Technique\, which is taught internationally\, seeks to help students find ease of movement by releasing habit patterns that interfere with everyday functioning. It is very useful to musicians and anyone seeking improved mastery and presence. \nSue Collinson is a graduate of the Institute for The Alexander Technique and a member of The American Society for The Alexander Technique. \nRegister NowBACK TO ALL CLASSES
URL:https://www.islandarts.org/event/introduction-to-alexander-technique/
LOCATION:34 Cardinal Lane\, South Hero VT\, 34 Cardinal Lane\, South Hero\, VT
CATEGORIES:Classes,Health & Wellness
ATTACH;FMTTYPE=image/jpeg:https://www.islandarts.org/wp-content/uploads/2022/04/Alexander-technique.jpg
END:VEVENT
END:VCALENDAR