BEGIN:VCALENDAR
VERSION:2.0
PRODID:-//Island Arts - ECPv6.15.20//NONSGML v1.0//EN
CALSCALE:GREGORIAN
METHOD:PUBLISH
X-WR-CALNAME:Island Arts
X-ORIGINAL-URL:https://www.islandarts.org
X-WR-CALDESC:Events for Island Arts
REFRESH-INTERVAL;VALUE=DURATION:PT1H
X-Robots-Tag:noindex
X-PUBLISHED-TTL:PT1H
BEGIN:VTIMEZONE
TZID:America/New_York
BEGIN:DAYLIGHT
TZOFFSETFROM:-0500
TZOFFSETTO:-0400
TZNAME:EDT
DTSTART:20220313T070000
END:DAYLIGHT
BEGIN:STANDARD
TZOFFSETFROM:-0400
TZOFFSETTO:-0500
TZNAME:EST
DTSTART:20221106T060000
END:STANDARD
BEGIN:DAYLIGHT
TZOFFSETFROM:-0500
TZOFFSETTO:-0400
TZNAME:EDT
DTSTART:20230312T070000
END:DAYLIGHT
BEGIN:STANDARD
TZOFFSETFROM:-0400
TZOFFSETTO:-0500
TZNAME:EST
DTSTART:20231105T060000
END:STANDARD
BEGIN:DAYLIGHT
TZOFFSETFROM:-0500
TZOFFSETTO:-0400
TZNAME:EDT
DTSTART:20240310T070000
END:DAYLIGHT
BEGIN:STANDARD
TZOFFSETFROM:-0400
TZOFFSETTO:-0500
TZNAME:EST
DTSTART:20241103T060000
END:STANDARD
END:VTIMEZONE
BEGIN:VEVENT
DTSTART;TZID=America/New_York:20230626T100000
DTEND;TZID=America/New_York:20230626T111500
DTSTAMP:20260423T205012
CREATED:20230607T152535Z
LAST-MODIFIED:20230607T152538Z
UID:10000249-1687773600-1687778100@www.islandarts.org
SUMMARY:Yin Yoga & Meditation w/ Bob
DESCRIPTION:Yin Yoga & Meditation with BobDate/Time: Mondays\, 10 – 11:15 am\, June 5\, 12\, 19\, 26 (4-week series)\nLocation:    Masonic Hall\, 40 South Street\, South Hero\, Vermont 05486 \nCost: FREE; donations appreciated to benefit Island Arts \nHave you ever entered the “flow state” while doing an activity…maybe while being in nature\, listening to music or just walking?  This is the idea behind combining Yin Yoga and Meditation. Join Bob Muncil for a four-week series of Yin and Meditation…no prior experience necessary (either in yoga or meditation).  Yin yoga is unlike almost all other kinds of yoga and is an essential balance to many of our “yang” lifestyle choices. \nBob is both a certified Yin Yoga instructor as well as a certified meditation instructor.  This series will be user-friendly and easy to do for ALL body types and fitness levels. Come to one or all classes. \nBring your own yoga mat.  Cost is by donation. \nBACK TO ALL CLASSES
URL:https://www.islandarts.org/event/meditation-2-2/2023-06-26/
LOCATION:Masonic Hall\, 40 South Street\, South Hero\, Vermont\, 05486
CATEGORIES:Classes,Free Classes,Health & Wellness
ATTACH;FMTTYPE=image/jpeg:https://www.islandarts.org/wp-content/uploads/2023/05/Bob-Muncil.jpg
END:VEVENT
BEGIN:VEVENT
DTSTART;TZID=America/New_York:20230619T100000
DTEND;TZID=America/New_York:20230619T111500
DTSTAMP:20260423T205012
CREATED:20230607T152535Z
LAST-MODIFIED:20230607T152538Z
UID:10000248-1687168800-1687173300@www.islandarts.org
SUMMARY:Yin Yoga & Meditation w/ Bob
DESCRIPTION:Yin Yoga & Meditation with BobDate/Time: Mondays\, 10 – 11:15 am\, June 5\, 12\, 19\, 26 (4-week series)\nLocation:    Masonic Hall\, 40 South Street\, South Hero\, Vermont 05486 \nCost: FREE; donations appreciated to benefit Island Arts \nHave you ever entered the “flow state” while doing an activity…maybe while being in nature\, listening to music or just walking?  This is the idea behind combining Yin Yoga and Meditation. Join Bob Muncil for a four-week series of Yin and Meditation…no prior experience necessary (either in yoga or meditation).  Yin yoga is unlike almost all other kinds of yoga and is an essential balance to many of our “yang” lifestyle choices. \nBob is both a certified Yin Yoga instructor as well as a certified meditation instructor.  This series will be user-friendly and easy to do for ALL body types and fitness levels. Come to one or all classes. \nBring your own yoga mat.  Cost is by donation. \nBACK TO ALL CLASSES
URL:https://www.islandarts.org/event/meditation-2-2/2023-06-19/
LOCATION:Masonic Hall\, 40 South Street\, South Hero\, Vermont\, 05486
CATEGORIES:Classes,Free Classes,Health & Wellness
ATTACH;FMTTYPE=image/jpeg:https://www.islandarts.org/wp-content/uploads/2023/05/Bob-Muncil.jpg
END:VEVENT
BEGIN:VEVENT
DTSTART;TZID=America/New_York:20230612T100000
DTEND;TZID=America/New_York:20230612T111500
DTSTAMP:20260423T205012
CREATED:20230607T152535Z
LAST-MODIFIED:20230607T152538Z
UID:10000247-1686564000-1686568500@www.islandarts.org
SUMMARY:Yin Yoga & Meditation w/ Bob
DESCRIPTION:Yin Yoga & Meditation with BobDate/Time: Mondays\, 10 – 11:15 am\, June 5\, 12\, 19\, 26 (4-week series)\nLocation:    Masonic Hall\, 40 South Street\, South Hero\, Vermont 05486 \nCost: FREE; donations appreciated to benefit Island Arts \nHave you ever entered the “flow state” while doing an activity…maybe while being in nature\, listening to music or just walking?  This is the idea behind combining Yin Yoga and Meditation. Join Bob Muncil for a four-week series of Yin and Meditation…no prior experience necessary (either in yoga or meditation).  Yin yoga is unlike almost all other kinds of yoga and is an essential balance to many of our “yang” lifestyle choices. \nBob is both a certified Yin Yoga instructor as well as a certified meditation instructor.  This series will be user-friendly and easy to do for ALL body types and fitness levels. Come to one or all classes. \nBring your own yoga mat.  Cost is by donation. \nBACK TO ALL CLASSES
URL:https://www.islandarts.org/event/meditation-2-2/2023-06-12/
LOCATION:Masonic Hall\, 40 South Street\, South Hero\, Vermont\, 05486
CATEGORIES:Classes,Free Classes,Health & Wellness
ATTACH;FMTTYPE=image/jpeg:https://www.islandarts.org/wp-content/uploads/2023/05/Bob-Muncil.jpg
END:VEVENT
BEGIN:VEVENT
DTSTART;TZID=America/New_York:20230605T100000
DTEND;TZID=America/New_York:20230605T111500
DTSTAMP:20260423T205012
CREATED:20230428T141557Z
LAST-MODIFIED:20230527T155456Z
UID:10000246-1685959200-1685963700@www.islandarts.org
SUMMARY:Yin Yoga & Meditation w/ Bob
DESCRIPTION:Yin Yoga & Meditation with BobDate/Time: Mondays\, 10 – 11:15 am\, June 5\, 12\, 19\, 26 (4-week series)\nLocation:    Masonic Hall\, 40 South Street\, South Hero\, Vermont 05486 \nCost: FREE; donations appreciated to benefit Island Arts \nHave you ever entered the “flow state” while doing an activity…maybe while being in nature\, listening to music or just walking?  This is the idea behind combining Yin Yoga and Meditation. Join Bob Muncil for a four-week series of Yin and Meditation…no prior experience necessary (either in yoga or meditation).  Yin yoga is unlike almost all other kinds of yoga and is an essential balance to many of our “yang” lifestyle choices. \nBob is both a certified Yin Yoga instructor as well as a certified meditation instructor.  This series will be user-friendly and easy to do for ALL body types and fitness levels. Come to one or all classes. \nBring your own yoga mat.  Cost is by donation. \nBACK TO ALL CLASSES
URL:https://www.islandarts.org/event/meditation-2/
LOCATION:Masonic Hall\, 40 South Street\, South Hero\, Vermont\, 05486
CATEGORIES:Classes,Free Classes,Health & Wellness
ATTACH;FMTTYPE=image/jpeg:https://www.islandarts.org/wp-content/uploads/2023/05/Bob-Muncil.jpg
END:VEVENT
END:VCALENDAR