BEGIN:VCALENDAR
VERSION:2.0
PRODID:-//Island Arts - ECPv6.15.20//NONSGML v1.0//EN
CALSCALE:GREGORIAN
METHOD:PUBLISH
X-WR-CALNAME:Island Arts
X-ORIGINAL-URL:https://www.islandarts.org
X-WR-CALDESC:Events for Island Arts
REFRESH-INTERVAL;VALUE=DURATION:PT1H
X-Robots-Tag:noindex
X-PUBLISHED-TTL:PT1H
BEGIN:VTIMEZONE
TZID:Asia/Dubai
BEGIN:STANDARD
TZOFFSETFROM:+0400
TZOFFSETTO:+0400
TZNAME:+04
DTSTART:20210101T000000
END:STANDARD
END:VTIMEZONE
BEGIN:VEVENT
DTSTART;TZID=Asia/Dubai:20220817T090000
DTEND;TZID=Asia/Dubai:20220817T101500
DTSTAMP:20260423T163019
CREATED:20220201T010919Z
LAST-MODIFIED:20220711T123009Z
UID:10000039-1660726800-1660731300@www.islandarts.org
SUMMARY:Kundalini Yoga
DESCRIPTION:Kundalini YogaDate and time: Wednesdays\, 9am – 10:15am\, June 15 – September 15 \nInstructor: Kim Muncil\nCost: FREE; donations appreciated to benefit Island Arts \nThis style of yoga includes poses\, movement\, breath work\, and meditation. Each class is very unique and a full experience. The practice works to move energy in the body and bring about self-awareness. No yoga experience necessary. \nThe classes will be taught by Kim Muncil\, a certified Kundalini Yoga instructor from Delmar\, NY who has taught yoga for several years. She is a retired elementary teacher and spends her summers on Lake Champlain. \nOffered in collaboration with the North Hero Parks and Recreation.
URL:https://www.islandarts.org/event/kundalini-yoga-2022-08-17/
LOCATION:North Hero Community Hall\, US Rte 2\, North Hero\, VT
CATEGORIES:Free Classes,Health & Wellness
END:VEVENT
BEGIN:VEVENT
DTSTART;TZID=Asia/Dubai:20220810T090000
DTEND;TZID=Asia/Dubai:20220810T101500
DTSTAMP:20260423T163019
CREATED:20220201T010919Z
LAST-MODIFIED:20220711T123208Z
UID:10000089-1660122000-1660126500@www.islandarts.org
SUMMARY:Kundalini Yoga
DESCRIPTION:Kundalini YogaDate and time: Wednesdays\, 9am – 10:15am\, June 15 – September 15 \nInstructor: Kim Muncil\nCost: FREE; donations appreciated to benefit Island Arts \nThis style of yoga includes poses\, movement\, breath work\, and meditation. Each class is very unique and a full experience. The practice works to move energy in the body and bring about self-awareness. No yoga experience necessary. \nThe classes will be taught by Kim Muncil\, a certified Kundalini Yoga instructor from Delmar\, NY who has taught yoga for several years. She is a retired elementary teacher and spends her summers on Lake Champlain. \nOffered in collaboration with the North Hero Parks and Recreation.
URL:https://www.islandarts.org/event/kundalini-yoga-2022-08-10/
LOCATION:North Hero Community Hall\, US Rte 2\, North Hero\, VT
CATEGORIES:Free Classes,Health & Wellness
END:VEVENT
BEGIN:VEVENT
DTSTART;TZID=Asia/Dubai:20220713T090000
DTEND;TZID=Asia/Dubai:20220713T101500
DTSTAMP:20260423T163019
CREATED:20220201T010919Z
LAST-MODIFIED:20220711T123317Z
UID:10000088-1657702800-1657707300@www.islandarts.org
SUMMARY:Kundalini Yoga
DESCRIPTION:Kundalini YogaDate and time: Wednesdays\, 9am – 10:15am\, June 15 – September 15 \nInstructor: Kim Muncil\nCost: FREE; donations appreciated to benefit Island Arts \nThis style of yoga includes poses\, movement\, breath work\, and meditation. Each class is very unique and a full experience. The practice works to move energy in the body and bring about self-awareness. No yoga experience necessary. \nThe classes will be taught by Kim Muncil\, a certified Kundalini Yoga instructor from Delmar\, NY who has taught yoga for several years. She is a retired elementary teacher and spends her summers on Lake Champlain. \nOffered in collaboration with the North Hero Parks and Recreation.
URL:https://www.islandarts.org/event/kundalini-yoga-2022-07-13/
LOCATION:North Hero Community Hall\, US Rte 2\, North Hero\, VT
CATEGORIES:Free Classes,Health & Wellness
END:VEVENT
END:VCALENDAR