BEGIN:VCALENDAR
VERSION:2.0
PRODID:-//Island Arts - ECPv6.15.20//NONSGML v1.0//EN
CALSCALE:GREGORIAN
METHOD:PUBLISH
X-WR-CALNAME:Island Arts
X-ORIGINAL-URL:https://www.islandarts.org
X-WR-CALDESC:Events for Island Arts
REFRESH-INTERVAL;VALUE=DURATION:PT1H
X-Robots-Tag:noindex
X-PUBLISHED-TTL:PT1H
BEGIN:VTIMEZONE
TZID:UTC
BEGIN:STANDARD
TZOFFSETFROM:+0000
TZOFFSETTO:+0000
TZNAME:UTC
DTSTART:20240101T000000
END:STANDARD
END:VTIMEZONE
BEGIN:VEVENT
DTSTART;TZID=UTC:20250704T093000
DTEND;TZID=UTC:20250704T110000
DTSTAMP:20260423T163238
CREATED:20250507T182332Z
LAST-MODIFIED:20250725T101700Z
UID:10000764-1751621400-1751626800@www.islandarts.org
SUMMARY:International Folk Dancing 2025
DESCRIPTION:International Folk DancingDate and Time: Friday June 20 – September 26\, 2025 9:30 am – 11:00 am\n(Check web site as Aug 8+15 may be excluded)\nInstructor: Lesley Alpert\nLocation:  North Hero House Pier\n3671 US Route 2\, North Hero\, VT\nTickets: Free\, Donations to Island Arts are appreciated \nExperience the JOY of community dancing to lively music.\nGentle exercise for body\, mind and soul; movement and balance\, memory and joy. No experience needed.\nNo partner needed. Wear comfortable FLAT shoes. Bring your water bottle.\nCall 514-476-3418 to register\, however drop-ins are also encouraged. \nBACK TO ALL CLASSES
URL:https://www.islandarts.org/event/folk-dancing-2025-2/2025-07-04/
LOCATION:North Hero House Pier\, 3671 US-2\, North Hero\, VT\, 05474
CATEGORIES:Classes,Free Classes
ATTACH;FMTTYPE=image/jpeg:https://www.islandarts.org/wp-content/uploads/2022/01/The-Joy-of-Folk-Dancing.jpg
END:VEVENT
BEGIN:VEVENT
DTSTART;TZID=UTC:20250627T093000
DTEND;TZID=UTC:20250627T110000
DTSTAMP:20260423T163238
CREATED:20250507T182332Z
LAST-MODIFIED:20250725T101700Z
UID:10000763-1751016600-1751022000@www.islandarts.org
SUMMARY:International Folk Dancing 2025
DESCRIPTION:International Folk DancingDate and Time: Friday June 20 – September 26\, 2025 9:30 am – 11:00 am\n(Check web site as Aug 8+15 may be excluded)\nInstructor: Lesley Alpert\nLocation:  North Hero House Pier\n3671 US Route 2\, North Hero\, VT\nTickets: Free\, Donations to Island Arts are appreciated \nExperience the JOY of community dancing to lively music.\nGentle exercise for body\, mind and soul; movement and balance\, memory and joy. No experience needed.\nNo partner needed. Wear comfortable FLAT shoes. Bring your water bottle.\nCall 514-476-3418 to register\, however drop-ins are also encouraged. \nBACK TO ALL CLASSES
URL:https://www.islandarts.org/event/folk-dancing-2025-2/2025-06-27/
LOCATION:North Hero House Pier\, 3671 US-2\, North Hero\, VT\, 05474
CATEGORIES:Classes,Free Classes
ATTACH;FMTTYPE=image/jpeg:https://www.islandarts.org/wp-content/uploads/2022/01/The-Joy-of-Folk-Dancing.jpg
END:VEVENT
BEGIN:VEVENT
DTSTART;TZID=UTC:20250620T093000
DTEND;TZID=UTC:20250620T110000
DTSTAMP:20260423T163238
CREATED:20250507T182332Z
LAST-MODIFIED:20250725T101700Z
UID:10000717-1750411800-1750417200@www.islandarts.org
SUMMARY:International Folk Dancing 2025
DESCRIPTION:International Folk DancingDate and Time: Friday June 20 – September 26\, 2025 9:30 am – 11:00 am\n(Check web site as Aug 8+15 may be excluded)\nInstructor: Lesley Alpert\nLocation:  North Hero House Pier\n3671 US Route 2\, North Hero\, VT\nTickets: Free\, Donations to Island Arts are appreciated \nExperience the JOY of community dancing to lively music.\nGentle exercise for body\, mind and soul; movement and balance\, memory and joy. No experience needed.\nNo partner needed. Wear comfortable FLAT shoes. Bring your water bottle.\nCall 514-476-3418 to register\, however drop-ins are also encouraged. \nBACK TO ALL CLASSES
URL:https://www.islandarts.org/event/folk-dancing-2025-2/2025-06-20/
LOCATION:North Hero House Pier\, 3671 US-2\, North Hero\, VT\, 05474
CATEGORIES:Classes,Free Classes
ATTACH;FMTTYPE=image/jpeg:https://www.islandarts.org/wp-content/uploads/2022/01/The-Joy-of-Folk-Dancing.jpg
END:VEVENT
END:VCALENDAR