BEGIN:VCALENDAR
VERSION:2.0
PRODID:-//Island Arts - ECPv6.15.20//NONSGML v1.0//EN
CALSCALE:GREGORIAN
METHOD:PUBLISH
X-ORIGINAL-URL:https://www.islandarts.org
X-WR-CALDESC:Events for Island Arts
REFRESH-INTERVAL;VALUE=DURATION:PT1H
X-Robots-Tag:noindex
X-PUBLISHED-TTL:PT1H
BEGIN:VTIMEZONE
TZID:America/New_York
BEGIN:DAYLIGHT
TZOFFSETFROM:-0500
TZOFFSETTO:-0400
TZNAME:EDT
DTSTART:20210314T070000
END:DAYLIGHT
BEGIN:STANDARD
TZOFFSETFROM:-0400
TZOFFSETTO:-0500
TZNAME:EST
DTSTART:20211107T060000
END:STANDARD
BEGIN:DAYLIGHT
TZOFFSETFROM:-0500
TZOFFSETTO:-0400
TZNAME:EDT
DTSTART:20220313T070000
END:DAYLIGHT
BEGIN:STANDARD
TZOFFSETFROM:-0400
TZOFFSETTO:-0500
TZNAME:EST
DTSTART:20221106T060000
END:STANDARD
BEGIN:DAYLIGHT
TZOFFSETFROM:-0500
TZOFFSETTO:-0400
TZNAME:EDT
DTSTART:20230312T070000
END:DAYLIGHT
BEGIN:STANDARD
TZOFFSETFROM:-0400
TZOFFSETTO:-0500
TZNAME:EST
DTSTART:20231105T060000
END:STANDARD
BEGIN:DAYLIGHT
TZOFFSETFROM:-0500
TZOFFSETTO:-0400
TZNAME:EDT
DTSTART:20240310T070000
END:DAYLIGHT
BEGIN:STANDARD
TZOFFSETFROM:-0400
TZOFFSETTO:-0500
TZNAME:EST
DTSTART:20241103T060000
END:STANDARD
BEGIN:DAYLIGHT
TZOFFSETFROM:-0500
TZOFFSETTO:-0400
TZNAME:EDT
DTSTART:20250309T070000
END:DAYLIGHT
BEGIN:STANDARD
TZOFFSETFROM:-0400
TZOFFSETTO:-0500
TZNAME:EST
DTSTART:20251102T060000
END:STANDARD
BEGIN:DAYLIGHT
TZOFFSETFROM:-0500
TZOFFSETTO:-0400
TZNAME:EDT
DTSTART:20260308T070000
END:DAYLIGHT
BEGIN:STANDARD
TZOFFSETFROM:-0400
TZOFFSETTO:-0500
TZNAME:EST
DTSTART:20261101T060000
END:STANDARD
END:VTIMEZONE
BEGIN:VTIMEZONE
TZID:UTC
BEGIN:STANDARD
TZOFFSETFROM:+0000
TZOFFSETTO:+0000
TZNAME:UTC
DTSTART:20210101T000000
END:STANDARD
END:VTIMEZONE
BEGIN:VEVENT
DTSTART;TZID=America/New_York:20250825T170000
DTEND;TZID=America/New_York:20250825T180000
DTSTAMP:20260423T145353
CREATED:20250507T171320Z
LAST-MODIFIED:20250507T171320Z
UID:10000711-1756141200-1756144800@www.islandarts.org
SUMMARY:Group Singing Lessons with Sarah Cullins - 3
DESCRIPTION:Date and Time: Monday Aug 25\, 2025; 5 pm to 6 pm\nInstructor: Sarah Cullins\, soprano\nLocation: South Hero Congregational Church\, 24 South St.\, South Hero\, VT 05486\nTickets: $40 for the set of three classes; $15 for one class \nThese vocal technique classes will focus on body and breathing coordination\,\nenabling singers of any level to enhance their projection\, clarity of tone\, and\nefficiency of breath control while minimizing common tensions. \nBack by popular demand from previous seasons\, the well-attended classes\nreceived rave reviews from the students. \nBuy Class Ticket
URL:https://www.islandarts.org/event/group-singing-lessons-with-sarah-cullins-3-3/
LOCATION:South Hero Congregational Church\, 24 South St.\, South Hero\, VT
CATEGORIES:Classes,Music
ATTACH;FMTTYPE=image/jpeg:https://www.islandarts.org/wp-content/uploads/2022/04/sarah-cullins-SQ.jpg
END:VEVENT
BEGIN:VEVENT
DTSTART;TZID=America/New_York:20250818T170000
DTEND;TZID=America/New_York:20250818T180000
DTSTAMP:20260423T145353
CREATED:20240502T180540Z
LAST-MODIFIED:20250507T171022Z
UID:10000558-1755536400-1755540000@www.islandarts.org
SUMMARY:Group Singing Lessons with Sarah Cullins - 2
DESCRIPTION:Date and Time: Monday Aug 18\, 2025; 5 pm to 6 pm\nInstructor: Sarah Cullins\, soprano\nLocation: South Hero Congregational Church\, 24 South St.\, South Hero\, VT 05486\nTickets: $40 for the set of three classes; $15 for one class \nThese vocal technique classes will focus on body and breathing coordination\,\nenabling singers of any level to enhance their projection\, clarity of tone\,\nand efficiency of breath control while minimizing common tensions. \nBack by popular demand from previous seasons\, the well-attended classes\nreceived rave reviews from the students. \nBuy Class Ticket
URL:https://www.islandarts.org/event/group-singing-lessons-with-sarah-cullins-2-2/
LOCATION:South Hero Congregational Church\, 24 South St.\, South Hero\, VT
CATEGORIES:Classes,Music
ATTACH;FMTTYPE=image/jpeg:https://www.islandarts.org/wp-content/uploads/2022/04/sarah-cullins-SQ.jpg
END:VEVENT
BEGIN:VEVENT
DTSTART;TZID=America/New_York:20250811T170000
DTEND;TZID=America/New_York:20250811T180000
DTSTAMP:20260423T145353
CREATED:20240502T180147Z
LAST-MODIFIED:20250507T170803Z
UID:10000557-1754931600-1754935200@www.islandarts.org
SUMMARY:Group Singing Lessons with Sarah Cullins - 1
DESCRIPTION:Date and Time: Monday Aug 11\, 2025; 5 pm to 6 pm\nInstructor: Sarah Cullins\, soprano\nLocation: South Hero Congregational Church\, 24 South St.\, South Hero\, VT 05486\nTickets: $40 for the set of three classes; $15 for one class \nThese vocal technique classes will focus on body and breathing coordination\,\nenabling singers of any level to enhance their projection\, clarity of tone\,\nand efficiency of breath control while minimizing common tensions. \nBack by popular demand from previous seasons\, the well-attended classes received\nrave reviews from the students. \nBuy Class Ticket
URL:https://www.islandarts.org/event/group-singing-lessons-with-sarah-cullins-1-2/
LOCATION:South Hero Congregational Church\, 24 South St.\, South Hero\, VT
CATEGORIES:Classes,Music
ATTACH;FMTTYPE=image/jpeg:https://www.islandarts.org/wp-content/uploads/2022/04/sarah-cullins-SQ.jpg
END:VEVENT
BEGIN:VEVENT
DTSTART;TZID=America/New_York:20250607T190000
DTEND;TZID=America/New_York:20250607T204500
DTSTAMP:20260423T145353
CREATED:20250325T160402Z
LAST-MODIFIED:20250603T220651Z
UID:10000684-1749322800-1749329100@www.islandarts.org
SUMMARY:Alexander String Quartet
DESCRIPTION:The Alexander String QuartetDate and Time: Saturday\, June 7 2025\, 7 PM. ~80 minutes of music\, with an intermission. Meet-and-greet with Quartet members post-concert.\nLocation: Congregational Church of South Hero\, 24 South St\, South Hero\, VT 05486\nTickets: $25 online and at the door\, $20 at local outlets. NOTE 6/3:  The South Hero\, Grand Isle\, &  North Hero outlets are sold out. Tickets are still available online\, and at the door subject to availability. \nThe Alexander String Quartet stands among the world’s premier ensembles\, having performed in the major music capitals of five continents. The quartet has performed at Lincoln Center\, the 92nd Street Y\, the Metropolitan Museum\, Jordan Hall\, the Library of Congress\, and appeared as guests at universities including Yale\, Princeton\, Stanford\, Lewis & Clark\, UCLA\, St. Lawrence\, and many more. Numerous overseas tours include the U.K.\, the Czech Republic\, the Netherlands\, Italy\, Germany\, Spain\, Portugal\, Switzerland\, France\, Greece\, the Republic of Georgia\, Argentina\, Panamá\, and the Philippines. The quartet’s extensive recordings have won international critical acclaim.  \nThis ensemble appears in South Hero on June 7. Experiencing an ensemble such as this up close—to see the sweat on their brows—is truly amazing. It is SO unlike the experience in a big concert hall. Not to be missed! The concert may sell out\, so please consider getting your tickets now. \nThe program includes Haydn String Quartet in G major\, Op. 77\, No. 1;  Tarik O’Regan Gradual; and Schubert String Quartet No. 14 in D minor “Death and the Maiden.”  https://asq4.com/\n \nWHAT REVIEWERS HAVE SAID ABOUT THE ALEXANDER STRING QUARTET: \n“Dream-come-true performances ….” — THE BOSTON GLOBE \n“… as ferociously impressive as a small group of precision fighter pilots going through aerial maneuvers at breakneck speeds.” — LOS ANGELES TIMES \n“a special privilege to hear the dynamic Alexander performances… — THE NEW YORK TIMES \n“They make music with a remarkable joy in playing.” — NRC HANDELSBLAD (The Netherlands) \n“…. terrific of tone\, virtuosity and balance. The general quality level\, as well as all the particulars of communicative virtuosity\, place the Alexander Quartet right up there with the best on today’s international scene.” — SAN FRANCISCO CHRONICLE \nPROGRAM: \nAlexander String Program 7 June 2025_v5_ONLINE edition \nSPONSORED IN PART BY: \n \nBauer Gravel Farnham\, LLP\nServing Vermont for nearly 50 years\nvtlawoffices.com; (802) 863-5538 \nColdwell Banker Islands Realty\nYour Local Real Estate Resource\nLakeChamplainRealEstate.com; (802) 372-5777 \nThe Blue Paddle Bistro\nSpecial\, unpretentious\, unique food\nbluepaddlebistro.com; (802) 372-4814 \nMyti.com\nCommunity-driven online shopping \nGet TicketsBACK TO ALL EVENTS
URL:https://www.islandarts.org/event/alexander-string-quartet/
LOCATION:South Hero Congregational Church\, 24 South St.\, South Hero\, VT
CATEGORIES:Concerts,Events,Music
ATTACH;FMTTYPE=image/jpeg:https://www.islandarts.org/wp-content/uploads/2025/03/ASQ_PREFERRED_all-4-striding-.jpg
END:VEVENT
BEGIN:VEVENT
DTSTART;TZID=America/New_York:20240826T170000
DTEND;TZID=America/New_York:20240826T180000
DTSTAMP:20260423T145353
CREATED:20240502T180735Z
LAST-MODIFIED:20240521T200449Z
UID:10000559-1724691600-1724695200@www.islandarts.org
SUMMARY:Group Singing Lessons with Sarah Cullins - 3
DESCRIPTION:Date and Time: Monday Aug 26\, 2024; 5 pm to 6 pm\nInstructor: Sarah Cullins\, soprano\nLocation: South Hero Congregational Church\, 24 South St.\, South Hero\, VT 05486\nTickets: $40 for the set of three classes; $15 for one class \nThese vocal technique classes will focus on body and breathing coordination\,\nenabling singers of any level to enhance their projection\, clarity of tone\, and\nefficiency of breath control while minimizing common tensions. \nBack by popular demand from previous seasons\, the well-attended classes\nreceived rave reviews from the students. \nBuy Class Ticket
URL:https://www.islandarts.org/event/group-singing-lessons-with-sarah-cullins-3-2/
LOCATION:South Hero Congregational Church\, 24 South St.\, South Hero\, VT
CATEGORIES:Classes,Music
ATTACH;FMTTYPE=image/jpeg:https://www.islandarts.org/wp-content/uploads/2022/04/sarah-cullins-SQ.jpg
END:VEVENT
BEGIN:VEVENT
DTSTART;TZID=America/New_York:20240812T170000
DTEND;TZID=America/New_York:20240812T180000
DTSTAMP:20260423T145353
CREATED:20240502T175652Z
LAST-MODIFIED:20240521T213924Z
UID:10000556-1723482000-1723485600@www.islandarts.org
SUMMARY:Group Singing Lessons with Sarah Cullins - Full Series
DESCRIPTION:Date & Time: Mondays 5pm – 6pm \nAug 12\, 2024\nAug 19\, 2024\nAug 26\, 2024 \nInstructor: Sarah Cullins\, soprano \nLocation: South Hero Congregational Church\, 24 South St.\, South Hero\, VT 05486 \nTickets: $40 for the set of three classes \nThese vocal technique classes will focus on body and breathing coordination\, enabling\nsingers of any level to enhance their projection\, clarity of tone\, and efficiency of\nbreath control while minimizing common tensions. Different techniques will be taught\nat each class. The classes are suitable for both beginners and experienced singers.\nStudents will be given access to online exercises for ongoing practice. \nBack by popular demand from previous seasons\, the well-attended classes received rave reviews\nfrom the students. \nBUY THIS SERIES
URL:https://www.islandarts.org/event/group-singing-lessons-with-sarah-cullins-full-series/
LOCATION:South Hero Congregational Church\, 24 South St.\, South Hero\, VT
CATEGORIES:Classes,Music
ATTACH;FMTTYPE=image/jpeg:https://www.islandarts.org/wp-content/uploads/2022/04/sarah-cullins-SQ.jpg
END:VEVENT
BEGIN:VEVENT
DTSTART;TZID=America/New_York:20220822T170000
DTEND;TZID=America/New_York:20220822T180000
DTSTAMP:20260423T145353
CREATED:20220329T221125Z
LAST-MODIFIED:20220602T230428Z
UID:10000038-1661187600-1661191200@www.islandarts.org
SUMMARY:Group Singing Lessons with Sarah Cullins #3
DESCRIPTION:Group Singing Lessons with Sarah CullinsDate and Time: Monday Aug 22\, 2022; 5 to 6PM\nInstructor: Sarah Cullins\, soprano\nLocation: South Hero Congregational Church\, 24 South St.\, South Hero\, VT 05486\nTickets: $40 for the set of three classes; $15 for one class \nThese vocal technique classes will focus on body and breathing coordination\, enabling singers of any level to enhance their projection\, clarity of tone\, and efficiency of breath control while minimizing common tensions. The classes are suitable for both beginners and experienced singers. Students will be given access to online exercises for ongoing practice. \nBack by popular demand from last season\, the well-attended classes received rave reviews from the students. \nSarah Cullins\, Soprano \nRegister NowBACK TO ALL CLASSES
URL:https://www.islandarts.org/event/group-singing-lessons-with-sarah-cullins-3/
LOCATION:South Hero Congregational Church\, 24 South St.\, South Hero\, VT
CATEGORIES:Classes,Music
ATTACH;FMTTYPE=image/jpeg:https://www.islandarts.org/wp-content/uploads/2022/01/sarah-cullins.jpg
END:VEVENT
BEGIN:VEVENT
DTSTART;TZID=America/New_York:20220815T170000
DTEND;TZID=America/New_York:20220815T180000
DTSTAMP:20260423T145353
CREATED:20220329T220950Z
LAST-MODIFIED:20220602T230701Z
UID:10000015-1660582800-1660586400@www.islandarts.org
SUMMARY:Group Singing Lessons with Sarah Cullins #2
DESCRIPTION:Group Singing Lessons with Sarah CullinsDate and Time: Monday Aug 15\, 2022; 5 to 6PM\nInstructor: Sarah Cullins\, soprano\nLocation: South Hero Congregational Church\, 24 South St.\, South Hero\, VT 05486\nTickets: $40 for the set of three classes; $15 for one class \nThese vocal technique classes will focus on body and breathing coordination\, enabling singers of any level to enhance their projection\, clarity of tone\, and efficiency of breath control while minimizing common tensions. The classes are suitable for both beginners and experienced singers. Students will be given access to online exercises for ongoing practice. \nBack by popular demand from last season\, the well-attended classes received rave reviews from the students. \nSarah Cullins\, Soprano \nRegister NowBACK TO ALL CLASSES
URL:https://www.islandarts.org/event/group-singing-lessons-with-sarah-cullins-2/
LOCATION:South Hero Congregational Church\, 24 South St.\, South Hero\, VT
CATEGORIES:Classes,Music
ATTACH;FMTTYPE=image/jpeg:https://www.islandarts.org/wp-content/uploads/2022/01/sarah-cullins.jpg
END:VEVENT
BEGIN:VEVENT
DTSTART;TZID=UTC:20220808T170000
DTEND;TZID=UTC:20220808T180000
DTSTAMP:20260423T145353
CREATED:20220127T225746Z
LAST-MODIFIED:20220602T231414Z
UID:10000051-1659978000-1659981600@www.islandarts.org
SUMMARY:Group Singing Lessons with Sarah Cullins
DESCRIPTION:Group Singing Lessons with Sarah CullinsDate and Time: Monday Aug 8\, 2022; 5 to 6PM\nInstructor: Sarah Cullins\, soprano\nLocation: South Hero Congregational Church\, 24 South St.\, South Hero\, VT 05486\nTickets: $40 for the set of three classes; $15 for one class \nThese vocal technique classes will focus on body and breathing coordination\, enabling singers of any level to enhance their projection\, clarity of tone\, and efficiency of breath control while minimizing common tensions. The classes are suitable for both beginners and experienced singers. Students will be given access to online exercises for ongoing practice. \nBack by popular demand from last season\, the well-attended classes received rave reviews from the students. \nSarah Cullins\, Soprano \nRegister NowBACK TO ALL CLASSES
URL:https://www.islandarts.org/event/group-singing-lessons-with-sarah-cullins-1/
LOCATION:South Hero Congregational Church\, 24 South St.\, South Hero\, VT
CATEGORIES:Classes,Music
ATTACH;FMTTYPE=image/jpeg:https://www.islandarts.org/wp-content/uploads/2022/01/sarah-cullins.jpg
END:VEVENT
END:VCALENDAR